BEGIN:VCALENDAR
VERSION:2.0
PRODID:-//Chief - Events - ECPv6.2.0.1//NONSGML v1.0//EN
CALSCALE:GREGORIAN
X-WR-CALNAME:Chief - Events
X-ORIGINAL-URL:https://chiefsealthhs.seattleschools.org/events/little-shop
 -of-horrors-musical/ics/
X-WR-CALDESC:Chief - Events
REFRESH-INTERVAL;VALUE=DURATION:PT1D
X-Robots-Tag:noindex
X-PUBLISHED-TTL:PT1D
BEGIN:VTIMEZONE
TZID:America/Vancouver
BEGIN:DAYLIGHT
TZOFFSETFROM:-0800
TZOFFSETTO:-0700
TZNAME:PDT
DTSTART:20260308T100000
END:DAYLIGHT
BEGIN:STANDARD
TZOFFSETFROM:-0700
TZOFFSETTO:-0800
TZNAME:PST
DTSTART:20261101T090000
END:STANDARD
END:VTIMEZONE
BEGIN:VEVENT
DTSTART;TZID=America/Vancouver:20260501T190000
DTEND;TZID=America/Vancouver:20260503T140000
DTSTAMP:20260417T115301Z
CREATED:20260330T174929Z
LAST-MODIFIED:20260407T111633Z
UID:https://chiefsealthhs.seattleschools.org/events/little-shop-of-horrors
 -musical/
SUMMARY:Little Shop of Horrors
DESCRIPTION:Little Shop of Horrors Musical
Enjoy this musical production of Little Shop of Horrors in Chief Sealth&#0
 39;s theatre.
May 1\, 7 p.m.\, May 2\, 7 p.m. and May 3\, 2 p.m.
URL:https://chiefsealthhs.seattleschools.org/events/little-shop-of-horrors
 -musical/
END:VEVENT
END:VCALENDAR